BEGIN:VCALENDAR
VERSION:2.0
PRODID:-//Tukios.com/
BEGIN:VEVENT
UID:9573923c-81f3-45b6-af55-7e25c0ee6b99@www.legacyfuneralcremationservices.com
DTSTAMP:20260422T222942Z
DTSTART:20260425T150000Z
DTEND:20260425T160000Z
SUMMARY:Visitation
DESCRIPTION:
URL:https://www.legacyfuneralcremationservices.com/obituaries/irene-tripp
LOCATION: 55 Cedar Pointe Dr  Barrie ON L4N 5R7
GEO:44.381593;-79.71164
END:VEVENT
END:VCALENDAR