BEGIN:VCALENDAR
VERSION:2.0
PRODID:-//Tukios.com/
BEGIN:VEVENT
UID:a1e442bc-6e97-4f62-a413-5161b9fba47e@www.legacyfuneralcremationservices.com
DTSTAMP:20260422T222632Z
DTSTART:20260425T160000Z
DTEND:20260425T164500Z
SUMMARY:Funeral Service
DESCRIPTION:
URL:https://www.legacyfuneralcremationservices.com/obituaries/irene-tripp
LOCATION: 55 Cedar Pointe Dr  Barrie ON L4N 5R7
GEO:44.381593;-79.71164
END:VEVENT
END:VCALENDAR