BEGIN:VCALENDAR
VERSION:2.0
PRODID:-//Tukios.com/
BEGIN:VEVENT
UID:46b4dece-084c-4a15-9f74-77d2b8000f44@www.legacyfuneralcremationservices.com
DTSTAMP:20260420T220216Z
DTSTART:20260430T150000Z
DTEND:20260430T160000Z
SUMMARY:Funeral Service
DESCRIPTION:
URL:https://www.legacyfuneralcremationservices.com/obituaries/jill-thompson
LOCATION: 374 Salem Rd  Barrie ON L4N 9H9
GEO:44.3164351;-79.7208889
END:VEVENT
END:VCALENDAR