BEGIN:VCALENDAR
VERSION:2.0
PRODID:-//Tukios.com/
BEGIN:VEVENT
UID:6e2827dd-0c9e-4442-9733-9f15dae968de@www.legacyfuneralcremationservices.com
DTSTAMP:20260420T215716Z
DTSTART:20260430T160000Z
DTEND:20260430T173000Z
SUMMARY:Reception
DESCRIPTION:
URL:https://www.legacyfuneralcremationservices.com/obituaries/jill-thompson
LOCATION: 374 Salem Rd  Barrie ON L4N 9H9
GEO:44.3164351;-79.7208889
END:VEVENT
END:VCALENDAR