BEGIN:VCALENDAR
VERSION:2.0
PRODID:-//Tukios.com/
BEGIN:VEVENT
UID:a78012ec-24fd-4f18-ba7d-6b7cabf86127@www.legacyfuneralcremationservices.com
DTSTAMP:20260420T021913Z
DTSTART:20260421T200000Z
DTEND:20260422T000000Z
SUMMARY:Visitation
DESCRIPTION:
URL:https://www.legacyfuneralcremationservices.com/obituaries/serverio-novielli
LOCATION: 55 Cedar Pointe Dr  Barrie ON L4N 5R7
GEO:44.381593;-79.71164
END:VEVENT
END:VCALENDAR