BEGIN:VCALENDAR
VERSION:2.0
PRODID:-//Tukios.com/
BEGIN:VEVENT
UID:5784fd93-d6f5-479f-ba14-e1a9930644c6@www.legacyfuneralcremationservices.com
DTSTAMP:20260420T022407Z
DTSTART:20260423T180000Z
DTEND:20260423T190000Z
SUMMARY:Funeral Service
DESCRIPTION:
URL:https://www.legacyfuneralcremationservices.com/obituaries/serverio-novielli
LOCATION: 7 George St  Barrie ON L4N 2G5
GEO:44.3799408;-79.7043154
END:VEVENT
END:VCALENDAR