BEGIN:VCALENDAR
VERSION:2.0
PRODID:-//Tukios.com/
BEGIN:VEVENT
UID:a82c5031-c7f7-4b30-aa9f-7cbf249b1299@www.legacyfuneralcremationservices.com
DTSTAMP:20260420T021713Z
DTSTART:20260423T040000Z
DTEND:20260423T203000Z
SUMMARY:Reception
DESCRIPTION:
URL:https://www.legacyfuneralcremationservices.com/obituaries/serverio-novielli
LOCATION: 7 George St  Barrie ON L4N 2G5
GEO:44.3799408;-79.7043154
END:VEVENT
END:VCALENDAR