BEGIN:VCALENDAR
VERSION:2.0
PRODID:-//Tukios.com/
BEGIN:VEVENT
UID:04d05339-c720-4245-8cce-557c5159b8c8@www.legacyfuneralcremationservices.com
DTSTAMP:20260420T220156Z
DTSTART:20260430T140000Z
DTEND:20260430T150000Z
SUMMARY:Visitation
DESCRIPTION:
URL:https://www.legacyfuneralcremationservices.com/obituaries/violet-peacock
LOCATION:Mapleview Community Church 300 Mapleview Drive W.  Barrie ON L4N 
	9E7
GEO:44.3302901;-79.7083212
END:VEVENT
END:VCALENDAR