BEGIN:VCALENDAR
VERSION:2.0
PRODID:-//Tukios.com/
BEGIN:VEVENT
UID:d3838be0-c663-4753-b9da-5a9fe6c3eb9b@www.legacyfuneralcremationservices.com
DTSTAMP:20260420T220313Z
DTSTART:20260430T150000Z
DTEND:20260430T160000Z
SUMMARY:Celebration of Life
DESCRIPTION:
URL:https://www.legacyfuneralcremationservices.com/obituaries/violet-peacock
LOCATION:Mapleview Community Church 300 Mapleview Drive W.  Barrie ON L4N 
	9E7
GEO:44.3302901;-79.7083212
END:VEVENT
END:VCALENDAR